BEGIN:VCALENDAR
VERSION:2.0
PRODID:-//Chesterfield Community Church - ECPv6.15.20//NONSGML v1.0//EN
CALSCALE:GREGORIAN
METHOD:PUBLISH
X-WR-CALNAME:Chesterfield Community Church
X-ORIGINAL-URL:https://chesterfieldcommunity.org
X-WR-CALDESC:Events for Chesterfield Community Church
REFRESH-INTERVAL;VALUE=DURATION:PT1H
X-Robots-Tag:noindex
X-PUBLISHED-TTL:PT1H
BEGIN:VTIMEZONE
TZID:America/Chicago
BEGIN:DAYLIGHT
TZOFFSETFROM:-0600
TZOFFSETTO:-0500
TZNAME:CDT
DTSTART:20220313T080000
END:DAYLIGHT
BEGIN:STANDARD
TZOFFSETFROM:-0500
TZOFFSETTO:-0600
TZNAME:CST
DTSTART:20221106T070000
END:STANDARD
BEGIN:DAYLIGHT
TZOFFSETFROM:-0600
TZOFFSETTO:-0500
TZNAME:CDT
DTSTART:20230312T080000
END:DAYLIGHT
BEGIN:STANDARD
TZOFFSETFROM:-0500
TZOFFSETTO:-0600
TZNAME:CST
DTSTART:20231105T070000
END:STANDARD
BEGIN:DAYLIGHT
TZOFFSETFROM:-0600
TZOFFSETTO:-0500
TZNAME:CDT
DTSTART:20240310T080000
END:DAYLIGHT
BEGIN:STANDARD
TZOFFSETFROM:-0500
TZOFFSETTO:-0600
TZNAME:CST
DTSTART:20241103T070000
END:STANDARD
END:VTIMEZONE
BEGIN:VEVENT
DTSTART;TZID=America/Chicago:20231022T123000
DTEND;TZID=America/Chicago:20231022T170000
DTSTAMP:20260425T195040
CREATED:20230921T183550Z
LAST-MODIFIED:20230921T183550Z
UID:1499-1697977800-1697994000@chesterfieldcommunity.org
SUMMARY:Church Picnic at Central Park in Chesterfield
DESCRIPTION:Join us for a fall picnic at Chesterfield Central Park – located at 16365 Lydia Hill Dr. Chesterfield\, 63017. Sign up at The HUB to help by bringing food. Sign ups start Sunday\, October 1.
URL:https://chesterfieldcommunity.org/event/church-picnic-at-central-park-in-chesterfield/
END:VEVENT
END:VCALENDAR