BEGIN:VCALENDAR
VERSION:2.0
PRODID:-//Chesterfield Community Church - ECPv6.15.20//NONSGML v1.0//EN
CALSCALE:GREGORIAN
METHOD:PUBLISH
X-ORIGINAL-URL:https://chesterfieldcommunity.org
X-WR-CALDESC:Events for Chesterfield Community Church
REFRESH-INTERVAL;VALUE=DURATION:PT1H
X-Robots-Tag:noindex
X-PUBLISHED-TTL:PT1H
BEGIN:VTIMEZONE
TZID:America/Chicago
BEGIN:DAYLIGHT
TZOFFSETFROM:-0600
TZOFFSETTO:-0500
TZNAME:CDT
DTSTART:20220313T080000
END:DAYLIGHT
BEGIN:STANDARD
TZOFFSETFROM:-0500
TZOFFSETTO:-0600
TZNAME:CST
DTSTART:20221106T070000
END:STANDARD
BEGIN:DAYLIGHT
TZOFFSETFROM:-0600
TZOFFSETTO:-0500
TZNAME:CDT
DTSTART:20230312T080000
END:DAYLIGHT
BEGIN:STANDARD
TZOFFSETFROM:-0500
TZOFFSETTO:-0600
TZNAME:CST
DTSTART:20231105T070000
END:STANDARD
BEGIN:DAYLIGHT
TZOFFSETFROM:-0600
TZOFFSETTO:-0500
TZNAME:CDT
DTSTART:20240310T080000
END:DAYLIGHT
BEGIN:STANDARD
TZOFFSETFROM:-0500
TZOFFSETTO:-0600
TZNAME:CST
DTSTART:20241103T070000
END:STANDARD
END:VTIMEZONE
BEGIN:VEVENT
DTSTART;TZID=America/Chicago:20231112T080000
DTEND;TZID=America/Chicago:20231112T170000
DTSTAMP:20260425T182153
CREATED:20231026T202217Z
LAST-MODIFIED:20231026T202217Z
UID:1540-1699776000-1699808400@chesterfieldcommunity.org
SUMMARY:Operation Christmas Child (OCC)
DESCRIPTION:OCC is a ministry of Samaritan Purse that delivers the gospel message to children all over the world through shoeboxes filled with gifts for Christmas! There are THREE WAYS you can get involved: 1) Donate GIFTS to be packed in shoeboxes at The HUB\, 2) Pack your own shoeboxes online or in-person\, or 3) Donate money for shipping ($10 per box). The drop-off deadline is Sunday\, Nov. 12\, and you can find information regarding how to pack a shoebox at The HUB. Contact Colin at colin@chesterfieldcommunity.org with any questions.
URL:https://chesterfieldcommunity.org/event/operation-christmas-child-occ/
END:VEVENT
END:VCALENDAR