BEGIN:VCALENDAR
VERSION:2.0
PRODID:-//Chesterfield Community Church - ECPv6.15.20//NONSGML v1.0//EN
CALSCALE:GREGORIAN
METHOD:PUBLISH
X-WR-CALNAME:Chesterfield Community Church
X-ORIGINAL-URL:https://chesterfieldcommunity.org
X-WR-CALDESC:Events for Chesterfield Community Church
REFRESH-INTERVAL;VALUE=DURATION:PT1H
X-Robots-Tag:noindex
X-PUBLISHED-TTL:PT1H
BEGIN:VTIMEZONE
TZID:America/Chicago
BEGIN:DAYLIGHT
TZOFFSETFROM:-0600
TZOFFSETTO:-0500
TZNAME:CDT
DTSTART:20220313T080000
END:DAYLIGHT
BEGIN:STANDARD
TZOFFSETFROM:-0500
TZOFFSETTO:-0600
TZNAME:CST
DTSTART:20221106T070000
END:STANDARD
BEGIN:DAYLIGHT
TZOFFSETFROM:-0600
TZOFFSETTO:-0500
TZNAME:CDT
DTSTART:20230312T080000
END:DAYLIGHT
BEGIN:STANDARD
TZOFFSETFROM:-0500
TZOFFSETTO:-0600
TZNAME:CST
DTSTART:20231105T070000
END:STANDARD
BEGIN:DAYLIGHT
TZOFFSETFROM:-0600
TZOFFSETTO:-0500
TZNAME:CDT
DTSTART:20240310T080000
END:DAYLIGHT
BEGIN:STANDARD
TZOFFSETFROM:-0500
TZOFFSETTO:-0600
TZNAME:CST
DTSTART:20241103T070000
END:STANDARD
END:VTIMEZONE
BEGIN:VEVENT
DTSTART;TZID=America/Chicago:20231202T100000
DTEND;TZID=America/Chicago:20231202T150000
DTSTAMP:20260425T164607
CREATED:20231002T152737Z
LAST-MODIFIED:20231121T203100Z
UID:1512-1701511200-1701529200@chesterfieldcommunity.org
SUMMARY:Christmas Boutique Saturday\, Dec. 2 
DESCRIPTION:Looking for a unique\, one-of-a kind gift? Looking to support small businesses? Looking to invest in a local ministry? Come shop the Annual Christmas Boutique on Saturday\,  \nDec. 2\, from 10 am – 3 pm. All purchases will benefit the Kids Christmas Workshop at LifePoint Church in Florissant ~ James & Denise Miller’s church. Everyone is welcome and this event is open to the public. 
URL:https://chesterfieldcommunity.org/event/christmas-boutique-vendors-wanted-saturday-dec-2/
END:VEVENT
END:VCALENDAR