BEGIN:VCALENDAR
VERSION:2.0
PRODID:-//Chesterfield Community Church - ECPv6.15.20//NONSGML v1.0//EN
CALSCALE:GREGORIAN
METHOD:PUBLISH
X-WR-CALNAME:Chesterfield Community Church
X-ORIGINAL-URL:https://chesterfieldcommunity.org
X-WR-CALDESC:Events for Chesterfield Community Church
REFRESH-INTERVAL;VALUE=DURATION:PT1H
X-Robots-Tag:noindex
X-PUBLISHED-TTL:PT1H
BEGIN:VTIMEZONE
TZID:America/Chicago
BEGIN:DAYLIGHT
TZOFFSETFROM:-0600
TZOFFSETTO:-0500
TZNAME:CDT
DTSTART:20230312T080000
END:DAYLIGHT
BEGIN:STANDARD
TZOFFSETFROM:-0500
TZOFFSETTO:-0600
TZNAME:CST
DTSTART:20231105T070000
END:STANDARD
BEGIN:DAYLIGHT
TZOFFSETFROM:-0600
TZOFFSETTO:-0500
TZNAME:CDT
DTSTART:20240310T080000
END:DAYLIGHT
BEGIN:STANDARD
TZOFFSETFROM:-0500
TZOFFSETTO:-0600
TZNAME:CST
DTSTART:20241103T070000
END:STANDARD
BEGIN:DAYLIGHT
TZOFFSETFROM:-0600
TZOFFSETTO:-0500
TZNAME:CDT
DTSTART:20250309T080000
END:DAYLIGHT
BEGIN:STANDARD
TZOFFSETFROM:-0500
TZOFFSETTO:-0600
TZNAME:CST
DTSTART:20251102T070000
END:STANDARD
END:VTIMEZONE
BEGIN:VEVENT
DTSTART;TZID=America/Chicago:20240117T180000
DTEND;TZID=America/Chicago:20240117T200000
DTSTAMP:20260425T145706
CREATED:20231220T180221Z
LAST-MODIFIED:20231220T180221Z
UID:1620-1705514400-1705521600@chesterfieldcommunity.org
SUMMARY:Financial Peace University Class
DESCRIPTION:If you’ve ever felt like you just can’t get in control of your money\, you’re not alone. You’d be surprised how many people you know are struggling just like you. But it’s time for your struggle to end—starting today. Join our Financial Peace University class on Wednesday\, January 17\, and learn how you can pay off debt\, save more money\, and build wealth. Sign up online at Sign Up Genius today space is limited. \nhttps://www.signupgenius.com/go/10C0F45AEA82DA4FEC25-46954964-financial#/ \n 
URL:https://chesterfieldcommunity.org/event/financial-peace-university-class/
END:VEVENT
END:VCALENDAR