BEGIN:VCALENDAR
VERSION:2.0
PRODID:-//Chesterfield Community Church - ECPv6.15.20//NONSGML v1.0//EN
CALSCALE:GREGORIAN
METHOD:PUBLISH
X-ORIGINAL-URL:https://chesterfieldcommunity.org
X-WR-CALDESC:Events for Chesterfield Community Church
REFRESH-INTERVAL;VALUE=DURATION:PT1H
X-Robots-Tag:noindex
X-PUBLISHED-TTL:PT1H
BEGIN:VTIMEZONE
TZID:America/Chicago
BEGIN:DAYLIGHT
TZOFFSETFROM:-0600
TZOFFSETTO:-0500
TZNAME:CDT
DTSTART:20230312T080000
END:DAYLIGHT
BEGIN:STANDARD
TZOFFSETFROM:-0500
TZOFFSETTO:-0600
TZNAME:CST
DTSTART:20231105T070000
END:STANDARD
BEGIN:DAYLIGHT
TZOFFSETFROM:-0600
TZOFFSETTO:-0500
TZNAME:CDT
DTSTART:20240310T080000
END:DAYLIGHT
BEGIN:STANDARD
TZOFFSETFROM:-0500
TZOFFSETTO:-0600
TZNAME:CST
DTSTART:20241103T070000
END:STANDARD
BEGIN:DAYLIGHT
TZOFFSETFROM:-0600
TZOFFSETTO:-0500
TZNAME:CDT
DTSTART:20250309T080000
END:DAYLIGHT
BEGIN:STANDARD
TZOFFSETFROM:-0500
TZOFFSETTO:-0600
TZNAME:CST
DTSTART:20251102T070000
END:STANDARD
END:VTIMEZONE
BEGIN:VEVENT
DTSTART;TZID=America/Chicago:20240405T080000
DTEND;TZID=America/Chicago:20240406T170000
DTSTAMP:20260425T101412
CREATED:20240207T175535Z
LAST-MODIFIED:20240319T184027Z
UID:1676-1712304000-1712422800@chesterfieldcommunity.org
SUMMARY:Women's Annual Spring Retreat
DESCRIPTION:April 5 & 6\, 2024 at Chesterfield Community Church \nFriday: 5-9 pm\, box supper included\, event begins at 6:15 pm  \nSaturday: 8:45 am – 4:15 pm \nCost: $25 Friday night only\, $35 Saturday only\, or $55 for both Friday & Saturday  \nScholarships available. Sign up at the Hub\, SignUpGenius.com\, or on the CCC website. \nFaith L.I.F.T. is taking a weekend to build our faith together. The teaching will focus on the gift of prayer as an invitation to talk with God.  \nThe weekend will include worship\, video teaching\, small group discussions to build each other up\, and fun giveaways. New this year is a service project to build Blessing Baskets for new moms at Haven of Grace! (Ladies\, we’re going shopping!) \nCome join us as we experience a Faith L.I.F.T. and grow together in Christ  \nas Ladies In Fellowship Together! 🦋
URL:https://chesterfieldcommunity.org/event/womens-annual-spring-retreat/
END:VEVENT
BEGIN:VEVENT
DTSTART;TZID=America/Chicago:20240406T080000
DTEND;TZID=America/Chicago:20240406T170000
DTSTAMP:20260425T101412
CREATED:20240226T210132Z
LAST-MODIFIED:20240226T210132Z
UID:1705-1712390400-1712422800@chesterfieldcommunity.org
SUMMARY:Men's Golf Outing
DESCRIPTION:Bear Creek Golf Outing\, more details coming soon.
URL:https://chesterfieldcommunity.org/event/mens-golf-outing/
END:VEVENT
END:VCALENDAR