BEGIN:VCALENDAR
VERSION:2.0
PRODID:-//Chesterfield Community Church - ECPv6.15.20//NONSGML v1.0//EN
CALSCALE:GREGORIAN
METHOD:PUBLISH
X-WR-CALNAME:Chesterfield Community Church
X-ORIGINAL-URL:https://chesterfieldcommunity.org
X-WR-CALDESC:Events for Chesterfield Community Church
REFRESH-INTERVAL;VALUE=DURATION:PT1H
X-Robots-Tag:noindex
X-PUBLISHED-TTL:PT1H
BEGIN:VTIMEZONE
TZID:America/Chicago
BEGIN:DAYLIGHT
TZOFFSETFROM:-0600
TZOFFSETTO:-0500
TZNAME:CDT
DTSTART:20230312T080000
END:DAYLIGHT
BEGIN:STANDARD
TZOFFSETFROM:-0500
TZOFFSETTO:-0600
TZNAME:CST
DTSTART:20231105T070000
END:STANDARD
BEGIN:DAYLIGHT
TZOFFSETFROM:-0600
TZOFFSETTO:-0500
TZNAME:CDT
DTSTART:20240310T080000
END:DAYLIGHT
BEGIN:STANDARD
TZOFFSETFROM:-0500
TZOFFSETTO:-0600
TZNAME:CST
DTSTART:20241103T070000
END:STANDARD
BEGIN:DAYLIGHT
TZOFFSETFROM:-0600
TZOFFSETTO:-0500
TZNAME:CDT
DTSTART:20250309T080000
END:DAYLIGHT
BEGIN:STANDARD
TZOFFSETFROM:-0500
TZOFFSETTO:-0600
TZNAME:CST
DTSTART:20251102T070000
END:STANDARD
END:VTIMEZONE
BEGIN:VEVENT
DTSTART;TZID=America/Chicago:20241124T180000
DTEND;TZID=America/Chicago:20241124T200000
DTSTAMP:20260424T230312
CREATED:20241024T180048Z
LAST-MODIFIED:20241024T180048Z
UID:2007-1732471200-1732478400@chesterfieldcommunity.org
SUMMARY:Pie and Praise
DESCRIPTION:Mark your calendars to come celebrate God’s faithfulness at “Pie and Praise” on Sunday\, November 24th\, at 6pm. We will worship together\, observe the Lord’s Supper together\, and enjoy PIE together.
URL:https://chesterfieldcommunity.org/event/pie-and-praise/
END:VEVENT
END:VCALENDAR