BEGIN:VCALENDAR
VERSION:2.0
PRODID:-//Chesterfield Community Church - ECPv6.15.20//NONSGML v1.0//EN
CALSCALE:GREGORIAN
METHOD:PUBLISH
X-ORIGINAL-URL:https://chesterfieldcommunity.org
X-WR-CALDESC:Events for Chesterfield Community Church
REFRESH-INTERVAL;VALUE=DURATION:PT1H
X-Robots-Tag:noindex
X-PUBLISHED-TTL:PT1H
BEGIN:VTIMEZONE
TZID:America/Chicago
BEGIN:DAYLIGHT
TZOFFSETFROM:-0600
TZOFFSETTO:-0500
TZNAME:CDT
DTSTART:20240310T080000
END:DAYLIGHT
BEGIN:STANDARD
TZOFFSETFROM:-0500
TZOFFSETTO:-0600
TZNAME:CST
DTSTART:20241103T070000
END:STANDARD
BEGIN:DAYLIGHT
TZOFFSETFROM:-0600
TZOFFSETTO:-0500
TZNAME:CDT
DTSTART:20250309T080000
END:DAYLIGHT
BEGIN:STANDARD
TZOFFSETFROM:-0500
TZOFFSETTO:-0600
TZNAME:CST
DTSTART:20251102T070000
END:STANDARD
BEGIN:DAYLIGHT
TZOFFSETFROM:-0600
TZOFFSETTO:-0500
TZNAME:CDT
DTSTART:20260308T080000
END:DAYLIGHT
BEGIN:STANDARD
TZOFFSETFROM:-0500
TZOFFSETTO:-0600
TZNAME:CST
DTSTART:20261101T070000
END:STANDARD
END:VTIMEZONE
BEGIN:VEVENT
DTSTART;TZID=America/Chicago:20250803T080000
DTEND;TZID=America/Chicago:20250803T170000
DTSTAMP:20260424T092935
CREATED:20250717T180605Z
LAST-MODIFIED:20250717T180605Z
UID:2253-1754208000-1754240400@chesterfieldcommunity.org
SUMMARY:AUGUST SERMON SERIES: Grow Up! 
DESCRIPTION:As the fall approaches\, we’re going to spend the month of August asking and answering the question\, “What does it look like for you to grow up spiritually?” The Bible speaks about different life stages of a disciple of Christ. In order for us to identify our next step toward spiritual growth\, we need to identify which life stage we are in as a Christian. Each Sunday we’re going to look to God’s Word\, we’ll identify a particular life stage\, we’ll describe it in detail\, and then we’ll talk about the key ingredients that each life stage need in order to grow up spiritually. I hope you’ll join us! 
URL:https://chesterfieldcommunity.org/event/august-sermon-series-grow-up/
END:VEVENT
END:VCALENDAR