BEGIN:VCALENDAR
VERSION:2.0
PRODID:-//Chesterfield Community Church - ECPv6.15.20//NONSGML v1.0//EN
CALSCALE:GREGORIAN
METHOD:PUBLISH
X-WR-CALNAME:Chesterfield Community Church
X-ORIGINAL-URL:https://chesterfieldcommunity.org
X-WR-CALDESC:Events for Chesterfield Community Church
REFRESH-INTERVAL;VALUE=DURATION:PT1H
X-Robots-Tag:noindex
X-PUBLISHED-TTL:PT1H
BEGIN:VTIMEZONE
TZID:America/Chicago
BEGIN:DAYLIGHT
TZOFFSETFROM:-0600
TZOFFSETTO:-0500
TZNAME:CDT
DTSTART:20240310T080000
END:DAYLIGHT
BEGIN:STANDARD
TZOFFSETFROM:-0500
TZOFFSETTO:-0600
TZNAME:CST
DTSTART:20241103T070000
END:STANDARD
BEGIN:DAYLIGHT
TZOFFSETFROM:-0600
TZOFFSETTO:-0500
TZNAME:CDT
DTSTART:20250309T080000
END:DAYLIGHT
BEGIN:STANDARD
TZOFFSETFROM:-0500
TZOFFSETTO:-0600
TZNAME:CST
DTSTART:20251102T070000
END:STANDARD
BEGIN:DAYLIGHT
TZOFFSETFROM:-0600
TZOFFSETTO:-0500
TZNAME:CDT
DTSTART:20260308T080000
END:DAYLIGHT
BEGIN:STANDARD
TZOFFSETFROM:-0500
TZOFFSETTO:-0600
TZNAME:CST
DTSTART:20261101T070000
END:STANDARD
END:VTIMEZONE
BEGIN:VEVENT
DTSTART;TZID=America/Chicago:20251102T080000
DTEND;TZID=America/Chicago:20251102T170000
DTSTAMP:20260424T044339
CREATED:20251016T163310Z
LAST-MODIFIED:20251016T163913Z
UID:2347-1762070400-1762102800@chesterfieldcommunity.org
SUMMARY:Operation Christmas Child Supply Drop Off - Nov 2
DESCRIPTION:It’s officially Operation Christmas Child (OCC) season! This is a ministry of Samaritan’s Purse that delivers shoeboxes packed with appropriate gifts to boys and girls all over the world. Best of all\, children and their families hear the good news of Jesus when they receive these gifts. Donation items are due Sunday\, Nov 2\, so we can have our packing party the next week. Thank you for your generous giving! \nFor a list of gift suggestions and items to leave out of boxes – Click here. 
URL:https://chesterfieldcommunity.org/event/operation-christmas-child-supply-drop-off-nov-2/
END:VEVENT
END:VCALENDAR