BEGIN:VCALENDAR
VERSION:2.0
PRODID:-//Chesterfield Community Church - ECPv6.15.20//NONSGML v1.0//EN
CALSCALE:GREGORIAN
METHOD:PUBLISH
X-WR-CALNAME:Chesterfield Community Church
X-ORIGINAL-URL:https://chesterfieldcommunity.org
X-WR-CALDESC:Events for Chesterfield Community Church
REFRESH-INTERVAL;VALUE=DURATION:PT1H
X-Robots-Tag:noindex
X-PUBLISHED-TTL:PT1H
BEGIN:VTIMEZONE
TZID:America/Chicago
BEGIN:DAYLIGHT
TZOFFSETFROM:-0600
TZOFFSETTO:-0500
TZNAME:CDT
DTSTART:20240310T080000
END:DAYLIGHT
BEGIN:STANDARD
TZOFFSETFROM:-0500
TZOFFSETTO:-0600
TZNAME:CST
DTSTART:20241103T070000
END:STANDARD
BEGIN:DAYLIGHT
TZOFFSETFROM:-0600
TZOFFSETTO:-0500
TZNAME:CDT
DTSTART:20250309T080000
END:DAYLIGHT
BEGIN:STANDARD
TZOFFSETFROM:-0500
TZOFFSETTO:-0600
TZNAME:CST
DTSTART:20251102T070000
END:STANDARD
BEGIN:DAYLIGHT
TZOFFSETFROM:-0600
TZOFFSETTO:-0500
TZNAME:CDT
DTSTART:20260308T080000
END:DAYLIGHT
BEGIN:STANDARD
TZOFFSETFROM:-0500
TZOFFSETTO:-0600
TZNAME:CST
DTSTART:20261101T070000
END:STANDARD
END:VTIMEZONE
BEGIN:VEVENT
DTSTART;TZID=America/Chicago:20251109T120000
DTEND;TZID=America/Chicago:20251109T140000
DTSTAMP:20260424T044339
CREATED:20251030T203100Z
LAST-MODIFIED:20251030T203100Z
UID:2362-1762689600-1762696800@chesterfieldcommunity.org
SUMMARY:First Impressions Ministry - “Every Sunday is someone’s first day.”
DESCRIPTION:They say you never get a second chance to make a first impression — and that’s true for us as a church\, too! Every Sunday\, guests experience CCC for the first time through a warm smile\, a helpful hand\, or a friendly hello. If you’d like to help create that welcoming atmosphere\, we’d love for you to join our First Impressions Ministry. There are opportunities to serve on the Parking Lot Team\, Door Greeters\, Ushers\, Connections Table\, and Coffee Team. \n📅  Informational Meeting: Sunday\, Nov 9 (after service) \n🍽 Lunch Provided \n📲 Let us know you’re coming — click here to RSVP.
URL:https://chesterfieldcommunity.org/event/first-impressions-ministry-every-sunday-is-someones-first-day/
END:VEVENT
END:VCALENDAR