BEGIN:VCALENDAR
VERSION:2.0
PRODID:-//Chesterfield Community Church - ECPv6.15.20//NONSGML v1.0//EN
CALSCALE:GREGORIAN
METHOD:PUBLISH
X-ORIGINAL-URL:https://chesterfieldcommunity.org
X-WR-CALDESC:Events for Chesterfield Community Church
REFRESH-INTERVAL;VALUE=DURATION:PT1H
X-Robots-Tag:noindex
X-PUBLISHED-TTL:PT1H
BEGIN:VTIMEZONE
TZID:UTC
BEGIN:STANDARD
TZOFFSETFROM:+0000
TZOFFSETTO:+0000
TZNAME:UTC
DTSTART:20250101T000000
END:STANDARD
END:VTIMEZONE
BEGIN:VEVENT
DTSTART;TZID=UTC:20260503T170000
DTEND;TZID=UTC:20260503T180000
DTSTAMP:20260423T181329
CREATED:20230523T204553Z
LAST-MODIFIED:20260421T150243Z
UID:1091-1777827600-1777831200@chesterfieldcommunity.org
SUMMARY:MIT
DESCRIPTION:Come join us for “Members in Touch” where we gather together for a unified hour in prayer. \n\nEvent in Sanctuary
URL:https://chesterfieldcommunity.org/event/mit-2/
LOCATION:Chesterfield Community Church\, 14647 Ladue Rd\, Chesterfield\, 63017
ATTACH;FMTTYPE=image/png:https://chesterfieldcommunity.org/wp-content/uploads/2023/05/Members-In-Touch.png
END:VEVENT
END:VCALENDAR