BEGIN:VCALENDAR
VERSION:2.0
PRODID:-//Chesterfield Community Church - ECPv6.15.20//NONSGML v1.0//EN
CALSCALE:GREGORIAN
METHOD:PUBLISH
X-ORIGINAL-URL:https://chesterfieldcommunity.org
X-WR-CALDESC:Events for Chesterfield Community Church
REFRESH-INTERVAL;VALUE=DURATION:PT1H
X-Robots-Tag:noindex
X-PUBLISHED-TTL:PT1H
BEGIN:VTIMEZONE
TZID:America/Chicago
BEGIN:DAYLIGHT
TZOFFSETFROM:-0600
TZOFFSETTO:-0500
TZNAME:CDT
DTSTART:20230312T080000
END:DAYLIGHT
BEGIN:STANDARD
TZOFFSETFROM:-0500
TZOFFSETTO:-0600
TZNAME:CST
DTSTART:20231105T070000
END:STANDARD
BEGIN:DAYLIGHT
TZOFFSETFROM:-0600
TZOFFSETTO:-0500
TZNAME:CDT
DTSTART:20240310T080000
END:DAYLIGHT
BEGIN:STANDARD
TZOFFSETFROM:-0500
TZOFFSETTO:-0600
TZNAME:CST
DTSTART:20241103T070000
END:STANDARD
BEGIN:DAYLIGHT
TZOFFSETFROM:-0600
TZOFFSETTO:-0500
TZNAME:CDT
DTSTART:20250309T080000
END:DAYLIGHT
BEGIN:STANDARD
TZOFFSETFROM:-0500
TZOFFSETTO:-0600
TZNAME:CST
DTSTART:20251102T070000
END:STANDARD
BEGIN:DAYLIGHT
TZOFFSETFROM:-0600
TZOFFSETTO:-0500
TZNAME:CDT
DTSTART:20260308T080000
END:DAYLIGHT
BEGIN:STANDARD
TZOFFSETFROM:-0500
TZOFFSETTO:-0600
TZNAME:CST
DTSTART:20261101T070000
END:STANDARD
END:VTIMEZONE
BEGIN:VEVENT
DTSTART;TZID=America/Chicago:20250810T080000
DTEND;TZID=America/Chicago:20250810T170000
DTSTAMP:20260423T140518
CREATED:20250731T155350Z
LAST-MODIFIED:20250731T155350Z
UID:2265-1754812800-1754845200@chesterfieldcommunity.org
SUMMARY:Kidz Ministry Training
DESCRIPTION:Aug 10 – If you serve or are interested in serving in the children’s classes birth through toddlers: there will be a brief training held in the Genesis Room after service. 
URL:https://chesterfieldcommunity.org/event/kidz-ministry-training/
END:VEVENT
BEGIN:VEVENT
DTSTART;TZID=America/Chicago:20250803T080000
DTEND;TZID=America/Chicago:20250803T170000
DTSTAMP:20260423T140518
CREATED:20250717T180605Z
LAST-MODIFIED:20250717T180605Z
UID:2253-1754208000-1754240400@chesterfieldcommunity.org
SUMMARY:AUGUST SERMON SERIES: Grow Up! 
DESCRIPTION:As the fall approaches\, we’re going to spend the month of August asking and answering the question\, “What does it look like for you to grow up spiritually?” The Bible speaks about different life stages of a disciple of Christ. In order for us to identify our next step toward spiritual growth\, we need to identify which life stage we are in as a Christian. Each Sunday we’re going to look to God’s Word\, we’ll identify a particular life stage\, we’ll describe it in detail\, and then we’ll talk about the key ingredients that each life stage need in order to grow up spiritually. I hope you’ll join us! 
URL:https://chesterfieldcommunity.org/event/august-sermon-series-grow-up/
END:VEVENT
BEGIN:VEVENT
DTSTART;TZID=America/Chicago:20250727T140000
DTEND;TZID=America/Chicago:20250727T170000
DTSTAMP:20260423T140518
CREATED:20250716T205642Z
LAST-MODIFIED:20250716T205642Z
UID:2250-1753624800-1753635600@chesterfieldcommunity.org
SUMMARY:Baby Shower - Livie & Jay Exzabe
DESCRIPTION:Join us in celebrating Livie and Jay Exzabe as they prepare to welcome their precious gift — baby Israel! We’ll gather Sunday\, July 27 at 2 pm in the Genesis Room for fellowship\, joy\, and prayer. All are welcome to bless this growing family!
URL:https://chesterfieldcommunity.org/event/baby-shower-livie-jay-exzabe/
END:VEVENT
BEGIN:VEVENT
DTSTART;TZID=America/Chicago:20250618T181500
DTEND;TZID=America/Chicago:20250620T203000
DTSTAMP:20260423T140518
CREATED:20250522T155350Z
LAST-MODIFIED:20250522T155350Z
UID:2217-1750270500-1750451400@chesterfieldcommunity.org
SUMMARY:VBS - Discover Truth
DESCRIPTION:Registration: All kids Pre-K (4 years old) through Fifth grade are invited to attend our Discover Truth VBS. June 18\, 19\, 20 from 6:15-8:30 pm\, and Sunday\, June 22 from 10:30-11:45 am with a pizza party afterwards. Please use this link to register for VBS\, one form per child. This helps our registration and check in go smoothly.  \nWe hope to have alotl fun!
URL:https://chesterfieldcommunity.org/event/vbs-discover-truth/
END:VEVENT
BEGIN:VEVENT
DTSTART;TZID=America/Chicago:20250601T080000
DTEND;TZID=America/Chicago:20250601T170000
DTSTAMP:20260423T140518
CREATED:20250522T154717Z
LAST-MODIFIED:20250522T154717Z
UID:2214-1748764800-1748797200@chesterfieldcommunity.org
SUMMARY:NEW SERIES: “Jesus Jams - Psalms”
DESCRIPTION:This summer we’re going to journey through Psalms\, but not just any psalms. We’re looking at the psalms that show up most in the New Testament. Why do these psalms seem to resonate with the first Christians? How does the gospel of Jesus Christ inform how Christians are drawn to these psalms? These are some of the questions we’re going to answer in our summer series\, “Jesus Jams\,” and I hope you’ll join us next Sunday!
URL:https://chesterfieldcommunity.org/event/new-series-jesus-jams-psalms/
END:VEVENT
BEGIN:VEVENT
DTSTART;VALUE=DATE:20250526
DTEND;VALUE=DATE:20250527
DTSTAMP:20260423T140518
CREATED:20250522T154507Z
LAST-MODIFIED:20250522T154507Z
UID:2210-1748217600-1748303999@chesterfieldcommunity.org
SUMMARY:Office Closed
DESCRIPTION:The CCC office will be closed on Monday\, May 26 in observence of Memorial Day. 
URL:https://chesterfieldcommunity.org/event/office-closed-4/
END:VEVENT
BEGIN:VEVENT
DTSTART;TZID=America/Chicago:20250518T080000
DTEND;TZID=America/Chicago:20250518T170000
DTSTAMP:20260423T140518
CREATED:20250423T190506Z
LAST-MODIFIED:20250423T191040Z
UID:2172-1747555200-1747587600@chesterfieldcommunity.org
SUMMARY:Graduate Recognition Sunday
DESCRIPTION:We would love to celebrate all high school graduates during our worship service on May 19. Contact Student Pastor Logan with your graduate’s plans and a photo if you would like to participate at logan@chesterfieldcommunity.org. All information needs to be turned in by Sunday\, May 11.
URL:https://chesterfieldcommunity.org/event/graduate-recognition-sunday/
END:VEVENT
BEGIN:VEVENT
DTSTART;TZID=America/Chicago:20250504T183000
DTEND;TZID=America/Chicago:20250504T200000
DTSTAMP:20260423T140518
CREATED:20250423T190005Z
LAST-MODIFIED:20250423T190005Z
UID:2170-1746383400-1746388800@chesterfieldcommunity.org
SUMMARY:Mills Family Baby Shower
DESCRIPTION:🎉 Let’s celebrate the upcoming arrival of Westley James Mills\, the newest little bundle for Logan and Chloe Mills and baby brother to Grayson and Walker! \n🗓 Sunday\, May 4th at 6:30 p.m.\n📍Fellowship Hall \nOur awesome Youth Group is helping to throw this special baby shower\, and we’d love for everyone—young and young at heart—to join in the fun! There will be games\, treats\, laughter\, and lots of love. \n🎁  If you’d like to bless the Mills family\, diapers\, wipes\, and gift cards would be especially appreciated as they prepare to welcome Baby Westley.
URL:https://chesterfieldcommunity.org/event/mills-family-baby-shower/
END:VEVENT
BEGIN:VEVENT
DTSTART;TZID=America/Chicago:20250426T074500
DTEND;TZID=America/Chicago:20250426T170000
DTSTAMP:20260423T140518
CREATED:20250320T203752Z
LAST-MODIFIED:20250320T203752Z
UID:2131-1745653500-1745686800@chesterfieldcommunity.org
SUMMARY:CCC Guys & Gals Spring Golf Scramble
DESCRIPTION:Saturday\, Apr 26\, 7:45 am at Golf Club of Wentzville. Located at 9 Pro Shop Dr. Wentzville (636-332-0500). Cost is $67 for 18 holes and a cart. 16 spots available\, to sign up contact David Haynes. 
URL:https://chesterfieldcommunity.org/event/ccc-guys-gals-spring-golf-scramble/
END:VEVENT
BEGIN:VEVENT
DTSTART;TZID=America/Chicago:20250420T090000
DTEND;TZID=America/Chicago:20250420T120000
DTSTAMP:20260423T140518
CREATED:20250326T163346Z
LAST-MODIFIED:20250408T180713Z
UID:2141-1745139600-1745150400@chesterfieldcommunity.org
SUMMARY:Easter Sunday
DESCRIPTION:Please join us in celebrating the risen Savior\, Sunday\, April 20.\nCelebration starts at 9 am with brunch in the foyer\, continues with worship at 10:30 am during which our kids classes are available birth and toddlers upstairs\, and Pre-K through fifth grade will be downstairs.
URL:https://chesterfieldcommunity.org/event/easter-sunday-2/
END:VEVENT
BEGIN:VEVENT
DTSTART;TZID=America/Chicago:20250418T183000
DTEND;TZID=America/Chicago:20250418T193000
DTSTAMP:20260423T140518
CREATED:20250408T174631Z
LAST-MODIFIED:20250408T175457Z
UID:2157-1745001000-1745004600@chesterfieldcommunity.org
SUMMARY:Good Friday
DESCRIPTION:We will gather for a special\, reflective service to feel the weight of Christ’s sacrifice on the cross. This service will be a family worship\, no childcare will be provided.
URL:https://chesterfieldcommunity.org/event/good-friday/
END:VEVENT
BEGIN:VEVENT
DTSTART;TZID=America/Chicago:20250413T080000
DTEND;TZID=America/Chicago:20250413T170000
DTSTAMP:20260423T140518
CREATED:20250326T163254Z
LAST-MODIFIED:20250326T163254Z
UID:2139-1744531200-1744563600@chesterfieldcommunity.org
SUMMARY:Palm Sunday - April 13
DESCRIPTION:Our kids will have a special part of the worship service on Sunday\, April 13\, before returning to their classes.
URL:https://chesterfieldcommunity.org/event/palm-sunday-april-13/
END:VEVENT
BEGIN:VEVENT
DTSTART;TZID=America/Chicago:20250406T080000
DTEND;TZID=America/Chicago:20250406T170000
DTSTAMP:20260423T140518
CREATED:20250320T204115Z
LAST-MODIFIED:20250320T204115Z
UID:2135-1743926400-1743958800@chesterfieldcommunity.org
SUMMARY:Partnering with The Haven of Grace for Easter Baskets
DESCRIPTION:CCC Women’s Ministry is partnering with The Haven of Grace to fill Easter baskets for children in their care\, ages 1-5 years. If you’re interested in helping\, contact Janet Ford at ford.janet@sbcglobal.net for more details on how you can contribute\, whether through donations\, assembling the baskets\, or delivering them. Thank you for considering getting involved!
URL:https://chesterfieldcommunity.org/event/partnering-with-the-haven-of-grace-for-easter-baskets/
END:VEVENT
BEGIN:VEVENT
DTSTART;TZID=America/Chicago:20250330T120000
DTEND;TZID=America/Chicago:20250330T170000
DTSTAMP:20260423T140518
CREATED:20250320T203830Z
LAST-MODIFIED:20250320T203830Z
UID:2133-1743336000-1743354000@chesterfieldcommunity.org
SUMMARY:VBS Decorating Meeting
DESCRIPTION:This year CCC Kidz is hoping to put together a decoration team to help get the church ready for our kids to Discover Truth: It’s Okay to Axolotl Questions. If you are interested in either helping to make the needed props OR coming to decorate the church at some point\,  please attend the Decoration Team meeting on Mar 30\, right after service in the Genesis Room. Thank you!
URL:https://chesterfieldcommunity.org/event/vbs-decorating-meeting/
END:VEVENT
BEGIN:VEVENT
DTSTART;TZID=America/Chicago:20250328T080000
DTEND;TZID=America/Chicago:20250328T170000
DTSTAMP:20260423T140518
CREATED:20250206T215457Z
LAST-MODIFIED:20250206T215457Z
UID:2096-1743148800-1743181200@chesterfieldcommunity.org
SUMMARY:CCC Women's Ministry is going to Branson! - Mar 28-30
DESCRIPTION:Favored Women Conference – https://favoredwomen.com/spring/index.html \nGreat Speakers! Margaret Feinberg\, Kelly Minter\, Anita Renfroe\, Karen Kingsbury \nAwesome Music! Big Daddy Weave\, Cain\, Favored Worship \nSign up by Feb. 9 with $75 deposit; balance due Mar. 12. Pay to CCC online or by check. Conf & Hotel fee per person: $199-379\, depending on number of persons in hotel room (up to 4). Contact Vassie Haynes 314-422-2909 or Lynn Utley 314-610-3263 
URL:https://chesterfieldcommunity.org/event/ccc-womens-ministry-is-going-to-branson-mar-28-30/
END:VEVENT
BEGIN:VEVENT
DTSTART;TZID=America/Chicago:20250315T140000
DTEND;TZID=America/Chicago:20250315T170000
DTSTAMP:20260423T140518
CREATED:20250227T212257Z
LAST-MODIFIED:20250227T212257Z
UID:2115-1742047200-1742058000@chesterfieldcommunity.org
SUMMARY:Celebration of Life
DESCRIPTION:Rhonda’s mom Barb\, went home to be with our Lord Jesus on Saturday\, Feb 22. All are welcome to the Celebration of Life planned for Mar 15 at 2 pm at Chesterfield Community Church. The family would like to thank those who have already reached out with love\, condolences\, and support. They deeply appreciate each and every one of you. 
URL:https://chesterfieldcommunity.org/event/celebration-of-life/
END:VEVENT
BEGIN:VEVENT
DTSTART;TZID=America/Chicago:20250308T080000
DTEND;TZID=America/Chicago:20250308T170000
DTSTAMP:20260423T140518
CREATED:20250227T211338Z
LAST-MODIFIED:20250227T211338Z
UID:2113-1741420800-1741453200@chesterfieldcommunity.org
SUMMARY:Daylight Savings Time
DESCRIPTION:Remember to set your clocks ahead one hour before bed Saturday night. Don’t be late for church! 
URL:https://chesterfieldcommunity.org/event/daylight-savings-time-2/
END:VEVENT
BEGIN:VEVENT
DTSTART;TZID=America/Chicago:20250307T080000
DTEND;TZID=America/Chicago:20250309T170000
DTSTAMP:20260423T140518
CREATED:20250206T215257Z
LAST-MODIFIED:20250206T215257Z
UID:2092-1741334400-1741539600@chesterfieldcommunity.org
SUMMARY:Disciple Now - Mar 7 - 9
DESCRIPTION:This is for students 6th – 12th grades. See Pastor Logan for more details.
URL:https://chesterfieldcommunity.org/event/disciple-now-mar-7-9/
END:VEVENT
BEGIN:VEVENT
DTSTART;TZID=America/Chicago:20250302T080000
DTEND;TZID=America/Chicago:20250302T170000
DTSTAMP:20260423T140518
CREATED:20250227T211003Z
LAST-MODIFIED:20250227T211003Z
UID:2111-1740902400-1740934800@chesterfieldcommunity.org
SUMMARY:No Kidz or C3 Students Sunday Mar 2
DESCRIPTION:All 9 am classes for CCC Kidz and C3 Students are cancelled for Sunday\, March 2 due to FLAME. \nCCC Kidz 10:30 am classes are also cancelled – please enjoy family worship.
URL:https://chesterfieldcommunity.org/event/no-kidz-or-c3-students-sunday-mar-2/
END:VEVENT
BEGIN:VEVENT
DTSTART;TZID=America/Chicago:20250228T080000
DTEND;TZID=America/Chicago:20250302T170000
DTSTAMP:20260423T140518
CREATED:20250116T213558Z
LAST-MODIFIED:20250116T213558Z
UID:2075-1740729600-1740934800@chesterfieldcommunity.org
SUMMARY:FLAME Weekend
DESCRIPTION:Please join us for our annual marriage retreat to the Lake of the Ozarks. For full details\, click here.
URL:https://chesterfieldcommunity.org/event/flame-weekend-2/
END:VEVENT
BEGIN:VEVENT
DTSTART;TZID=America/Chicago:20250223T080000
DTEND;TZID=America/Chicago:20250223T170000
DTSTAMP:20260423T140518
CREATED:20250206T215353Z
LAST-MODIFIED:20250206T215353Z
UID:2094-1740297600-1740330000@chesterfieldcommunity.org
SUMMARY:Sanctity of Life Sunday Donations
DESCRIPTION:This year we are partnering with The Haven of Grace. We are collecting donations as well as financial gifts that will be gifted to Haven and the women and children they support. Please return all donations to the foyer table by Sunday\, Feb 23. 
URL:https://chesterfieldcommunity.org/event/sanctity-of-life-sunday-donations/
END:VEVENT
BEGIN:VEVENT
DTSTART;TZID=America/Chicago:20250120T080000
DTEND;TZID=America/Chicago:20250120T170000
DTSTAMP:20260423T140518
CREATED:20250109T220344Z
LAST-MODIFIED:20250109T220344Z
UID:2065-1737360000-1737392400@chesterfieldcommunity.org
SUMMARY:Office Closed
DESCRIPTION:The CCC office will be closed on Monday\, Jan 20 in observance of Martin Luther King Jr. day.
URL:https://chesterfieldcommunity.org/event/office-closed-2/
END:VEVENT
BEGIN:VEVENT
DTSTART;TZID=America/Chicago:20241219T190000
DTEND;TZID=America/Chicago:20241219T200000
DTSTAMP:20260423T140518
CREATED:20241216T213309Z
LAST-MODIFIED:20241216T213309Z
UID:2050-1734634800-1734638400@chesterfieldcommunity.org
SUMMARY:Civic Impact Group - How to overturn Amendment 3
DESCRIPTION:Abolishing abortion is not a political/partisan issue as much as it a kingdom issue near to God’s heart. Sadly\, Amendment 3 has passed in Missouri allowing abortion to be written into our state constitution. Looking for information about how to fight this decision? Come to Room 206 (lower youth room) on Dec 19 at 7 pm or Dec 28 at 9 am to hear about ways Christians can step up and respond! Contact Julie Sanders at 314-922-7420 for more details. 
URL:https://chesterfieldcommunity.org/event/civic-impact-group-how-to-overturn-amendment-3/
END:VEVENT
BEGIN:VEVENT
DTSTART;TZID=America/Chicago:20241215T140000
DTEND;TZID=America/Chicago:20241215T160000
DTSTAMP:20260423T140518
CREATED:20241121T213038Z
LAST-MODIFIED:20241121T213038Z
UID:2031-1734271200-1734278400@chesterfieldcommunity.org
SUMMARY:Baby Shower for Mallory Hairston
DESCRIPTION:You are invited to a baby shower in honor of the newest addition to the Hairston family\, Ella Jane. Please join us on Sunday\, Dec 15\, from 2 – 4 pm in the Genesis Room. This will be a wonderful opportunity to celebrate Ella Jane’s soon-to-be arrival and to shower Mallory and Ella with our prayers and blessings. Coffee\, tea\, and desserts will be served. Please RSVP at The HUB by Sunday\, Dec 8. In lieu of traditional gifts\, we kindly ask you to consider contributing towards the midwifery fees that are not covered by medical insurance. Donations can be made via cash\, check\, or Venmo at the event. We look forward to celebrating this joyous occasion with you!
URL:https://chesterfieldcommunity.org/event/baby-shower-for-mallory-hairston/
END:VEVENT
BEGIN:VEVENT
DTSTART;TZID=America/Chicago:20241214T110000
DTEND;TZID=America/Chicago:20241214T123000
DTSTAMP:20260423T140518
CREATED:20241114T212002Z
LAST-MODIFIED:20241121T212945Z
UID:2021-1734174000-1734179400@chesterfieldcommunity.org
SUMMARY:Ladies Christmas Brunch
DESCRIPTION:Join us as we BOW before the Father\, celebrating the GIFT of Jesus! We will have brunch\, hear from a guest speaker\, and participate in the gift exchange of Christmas socks! They can be cute\, fun\, and/or cozy. Bring a new pair of socks\, all rolled up and tied off with ribbon (no wrapping paper or bags). RSVP by Dec 8. Cost is $10 and guests are welcome! Contact Lynn Utley with questions at MrsU@duck.com or text 314-610-3263. Sign up at The Hub\, or online with sign up genius.
URL:https://chesterfieldcommunity.org/event/ladies-christmas-brunch/
END:VEVENT
BEGIN:VEVENT
DTSTART;TZID=America/Chicago:20241208T080000
DTEND;TZID=America/Chicago:20241208T170000
DTSTAMP:20260423T140518
CREATED:20241121T213150Z
LAST-MODIFIED:20241121T213150Z
UID:2033-1733644800-1733677200@chesterfieldcommunity.org
SUMMARY:Angel Tree Gifts
DESCRIPTION:Support children of parents who are incarcerated in Missouri prisons and who are involved in the Mission Gate ministry through Bible study and discipleship. Stop by the tree in the foyer and select a gift tag\, sign your name on the clipboard\, purchase age appropriate gifts (spend around $25)\, wrap and return the gift with the tag by Sunday\, Dec 8. If you would like to donate cash and have someone shop and wrap for you\, please contact Paula Bechthold at 314-808-5533.  
URL:https://chesterfieldcommunity.org/event/angel-tree-gifts/
END:VEVENT
BEGIN:VEVENT
DTSTART;TZID=America/Chicago:20241207T100000
DTEND;TZID=America/Chicago:20241207T150000
DTSTAMP:20260423T140518
CREATED:20241023T202249Z
LAST-MODIFIED:20241023T202249Z
UID:2004-1733565600-1733583600@chesterfieldcommunity.org
SUMMARY:Annual Christmas Boutique
DESCRIPTION:Do you make\, create\, or craft items to sell? Do you run a small business? Would you consider being a vendor for our Annual Christmas Boutique on December 7th? New this year we are having a silent auction. Donations from various local businesses will be up for auction with all proceeds going to help victims of hurricanes Helene and Milton. If you are interested in making a donation to the silent auction or being a vendor please contact the church office at office@chesterfieldcommunity.org. 
URL:https://chesterfieldcommunity.org/event/annual-christmas-boutique/
END:VEVENT
BEGIN:VEVENT
DTSTART;TZID=America/Chicago:20241124T180000
DTEND;TZID=America/Chicago:20241124T200000
DTSTAMP:20260423T140518
CREATED:20241024T180048Z
LAST-MODIFIED:20241024T180048Z
UID:2007-1732471200-1732478400@chesterfieldcommunity.org
SUMMARY:Pie and Praise
DESCRIPTION:Mark your calendars to come celebrate God’s faithfulness at “Pie and Praise” on Sunday\, November 24th\, at 6pm. We will worship together\, observe the Lord’s Supper together\, and enjoy PIE together.
URL:https://chesterfieldcommunity.org/event/pie-and-praise/
END:VEVENT
BEGIN:VEVENT
DTSTART;TZID=America/Chicago:20241020T080000
DTEND;TZID=America/Chicago:20241020T170000
DTSTAMP:20260423T140518
CREATED:20240905T181321Z
LAST-MODIFIED:20241016T184900Z
UID:1957-1729411200-1729443600@chesterfieldcommunity.org
SUMMARY:Church Picnic - Central Park in Chesterfield
DESCRIPTION:Join us Sunday\, after worship at Central Park in Chesterfield for lunch and an afternoon of fun and fellowship. Central Park has so much to offer\, playground equipment for children\, walking trails\, and covered seating for enjoying time with friends old and new.  Bring a chair\, a friend\, and relax at the park.
URL:https://chesterfieldcommunity.org/event/church-picnic-central-park-in-chesterfield/
END:VEVENT
BEGIN:VEVENT
DTSTART;TZID=America/Chicago:20241014T080000
DTEND;TZID=America/Chicago:20241014T170000
DTSTAMP:20260423T140518
CREATED:20240715T172257Z
LAST-MODIFIED:20240905T181018Z
UID:1893-1728892800-1728925200@chesterfieldcommunity.org
SUMMARY:Office Closed
DESCRIPTION:The CCC office will be closed on Monday\, October 14.
URL:https://chesterfieldcommunity.org/event/office-closed-labor-day/
END:VEVENT
END:VCALENDAR