BEGIN:VCALENDAR
VERSION:2.0
PRODID:-//Chesterfield Community Church - ECPv6.15.20//NONSGML v1.0//EN
CALSCALE:GREGORIAN
METHOD:PUBLISH
X-WR-CALNAME:Chesterfield Community Church
X-ORIGINAL-URL:https://chesterfieldcommunity.org
X-WR-CALDESC:Events for Chesterfield Community Church
REFRESH-INTERVAL;VALUE=DURATION:PT1H
X-Robots-Tag:noindex
X-PUBLISHED-TTL:PT1H
BEGIN:VTIMEZONE
TZID:America/Chicago
BEGIN:DAYLIGHT
TZOFFSETFROM:-0600
TZOFFSETTO:-0500
TZNAME:CDT
DTSTART:20220313T080000
END:DAYLIGHT
BEGIN:STANDARD
TZOFFSETFROM:-0500
TZOFFSETTO:-0600
TZNAME:CST
DTSTART:20221106T070000
END:STANDARD
BEGIN:DAYLIGHT
TZOFFSETFROM:-0600
TZOFFSETTO:-0500
TZNAME:CDT
DTSTART:20230312T080000
END:DAYLIGHT
BEGIN:STANDARD
TZOFFSETFROM:-0500
TZOFFSETTO:-0600
TZNAME:CST
DTSTART:20231105T070000
END:STANDARD
BEGIN:DAYLIGHT
TZOFFSETFROM:-0600
TZOFFSETTO:-0500
TZNAME:CDT
DTSTART:20240310T080000
END:DAYLIGHT
BEGIN:STANDARD
TZOFFSETFROM:-0500
TZOFFSETTO:-0600
TZNAME:CST
DTSTART:20241103T070000
END:STANDARD
BEGIN:DAYLIGHT
TZOFFSETFROM:-0600
TZOFFSETTO:-0500
TZNAME:CDT
DTSTART:20250309T080000
END:DAYLIGHT
BEGIN:STANDARD
TZOFFSETFROM:-0500
TZOFFSETTO:-0600
TZNAME:CST
DTSTART:20251102T070000
END:STANDARD
END:VTIMEZONE
BEGIN:VTIMEZONE
TZID:UTC
BEGIN:STANDARD
TZOFFSETFROM:+0000
TZOFFSETTO:+0000
TZNAME:UTC
DTSTART:20220101T000000
END:STANDARD
END:VTIMEZONE
BEGIN:VEVENT
DTSTART;TZID=America/Chicago:20240114T090000
DTEND;TZID=America/Chicago:20240114T100000
DTSTAMP:20260425T091042
CREATED:20231220T165434Z
LAST-MODIFIED:20231220T165434Z
UID:1612-1705222800-1705226400@chesterfieldcommunity.org
SUMMARY:Sunday Women's Bible Study
DESCRIPTION:Downstairs Room 201 \nDate: Starts January 14\nStudy: “Without Wavering” by Alexandra Hoover\nIn this study\, Alexandra Hoover offers encouraging words of hope and examples of unwavering faith from the Bible. Drawing inspiration from the examples of faith in Hebrews 11 and the early church\, you will see that life’s challenges don’t have to define you. Through hope in Christ you can become the woman who weathers the storms of life with renewed strength and confidence in who God is and who He says you are.\nWatch this video for Alexandra’s overview   Link: https://www.youtube.com/watch?v=YzJ02juQfHs\nSign up here: Without Wavering RSVP  Link: https://www.signupgenius.com/go/904044DAAAC2EA5F94-46627412-sunday\nFor more information contact by Barb Adair\, 314-265-7593\, barbaadair@gmail.com\n(Children’s classes available for all ages.)
URL:https://chesterfieldcommunity.org/event/sunday-womens-bible-study/
END:VEVENT
BEGIN:VEVENT
DTSTART;TZID=America/Chicago:20240111T190000
DTEND;TZID=America/Chicago:20240111T203000
DTSTAMP:20260425T091042
CREATED:20231220T165330Z
LAST-MODIFIED:20231220T165330Z
UID:1610-1704999600-1705005000@chesterfieldcommunity.org
SUMMARY:Thursday Women's Zoom Bible Study
DESCRIPTION:Join us on your laptop\, computer or phone\, wherever you are!\nDATE: New study starts January 11\nStudy: Truthfilled: The Practice of Preaching to Yourself Through Every Season by Ruth Chou Simmons\nJoin our Zoom Bible Study where we will take this 7-session\, video-based study of the Book of Colossians and study it together over the course of 21 weeks. This is perfect to adapt to your busy lives while still gleaning all Ruth has to say as she leads us through a practice of preaching gospel truth to ourselves by studying Paul’s example. In every changing season of life\, we can rest in God’s character\, rehearse our identity in Christ\, respond in faith\, and remember God’s provision for us. In today’s culture\, there’s no shortage of self help\, easy fixes\, and worldly advice\, but only the truth of God’s Word was meant to fill you up and satisfy you fully.   Get more information by watching this video by clicking here\nSign Up Here: Truthfilled  – https://www.signupgenius.com/go/904044DAAAC2EA5F94-46493106-thursday\nLed by Terri Zuber\, 314-630-9062\, terri.l.zuber@gmail.com
URL:https://chesterfieldcommunity.org/event/thursday-womens-zoom-bible-study/
END:VEVENT
BEGIN:VEVENT
DTSTART;TZID=America/Chicago:20240111T173000
DTEND;TZID=America/Chicago:20240111T203000
DTSTAMP:20260425T091042
CREATED:20231220T165827Z
LAST-MODIFIED:20231220T165827Z
UID:1618-1704994200-1705005000@chesterfieldcommunity.org
SUMMARY:Thursday Women's Bible Study (in person)
DESCRIPTION:Cyndi Steward’s Home\nDate: Starts January 11; This study does include dinner. If not having dinner\, study starts at 6:15 pm.\nStudy: “Everyday Theology – What You Believe Matters” by Mary Wiley\nTheology shapes your life. Theology\, the study of God and His work in the world\, isn’t just for those with lots of letters after their names or the staff at your church. It is for you in your everyday moments\, everyday questions\, and everyday decisions. What you believe determines the lens through which you see the world\, how you live your daily life\, and how you respond to both blessing and disaster. In this study you’ll delve into eight essential doctrines of the faith studied over 16 weeks so it is perfect for the busy lady. We will study Scripture\, God\, Jesus\, The Holy Spirit\, humanity\, salvation\, the church and the end times to understand how the foundations of your faith matter in everyday life. Get More Information watching this VIDEO\nSign up here: EVERY DAY THEOLOGY – Sign Up  Link: https://www.signupgenius.com/go/904044DAAAC2EA5F94-45974250-thursday\nFor more information contact: Cyndi Steward by call or text 707-301-0963 or email tiffysmom@gmail.com
URL:https://chesterfieldcommunity.org/event/thursday-womens-bible-study-in-person/
END:VEVENT
BEGIN:VEVENT
DTSTART;TZID=America/Chicago:20240110T183000
DTEND;TZID=America/Chicago:20240110T200000
DTSTAMP:20260425T091042
CREATED:20231220T165737Z
LAST-MODIFIED:20231220T165737Z
UID:1616-1704911400-1704916800@chesterfieldcommunity.org
SUMMARY:Wednesday Women's Bible Study
DESCRIPTION:Genesis Room\nDate: Starts January 10\nStudy: The Chosen\, 3rd Season – Join us as we watch the videos and study The Chosen Series and Bible Study for Season 3.\nThe revolution grows\, but not without resistance. The story of Jesus and His apostles continues.\nSign up here: The CHOSEN – Sign Up  Link: https://www.signupgenius.com/go/904044DAAAC2EA5F94-46057170-wednesday\nFor more info contact Therese Brown (text or call) 636-272-2791  theresebrown46@gmail.com\nChildren’s classes available for age 4 years to 5th Grade
URL:https://chesterfieldcommunity.org/event/wednesday-womens-bible-study/
END:VEVENT
BEGIN:VEVENT
DTSTART;TZID=America/Chicago:20231231T080000
DTEND;TZID=America/Chicago:20231231T170000
DTSTAMP:20260425T091042
CREATED:20231121T203706Z
LAST-MODIFIED:20231220T165216Z
UID:1563-1704009600-1704042000@chesterfieldcommunity.org
SUMMARY:CCC Kidz Updates
DESCRIPTION:Sunday\, Dec. 24 – No childcare provided during the 9 am AND 10:30 am service hours. We want our volunteers to be able to celebrate with us in service. We want our volunteers to be able to celebrate with us in service. \nWednesday\, Dec. 27 & Jan. 3 – No CCC Kidz on Wednesday night. \nSunday\, Dec. 31 – No childcare provided during the 9 am AND 10:30 am service hours. We want our volunteers to be ale to celebrate with us in service.
URL:https://chesterfieldcommunity.org/event/ccc-kidz-updates/
END:VEVENT
BEGIN:VEVENT
DTSTART;TZID=America/Chicago:20231224T080000
DTEND;TZID=America/Chicago:20231224T170000
DTSTAMP:20260425T091042
CREATED:20231121T203514Z
LAST-MODIFIED:20231121T203514Z
UID:1561-1703404800-1703437200@chesterfieldcommunity.org
SUMMARY:Christmas Eve Service
DESCRIPTION:On Christmas Eve we will have our worship service at 10:30 am as well as a candle light service at 4 pm. No childcare or classes will be provided that day\, as we encourage families to worship together.  
URL:https://chesterfieldcommunity.org/event/christmas-eve-service/
END:VEVENT
BEGIN:VEVENT
DTSTART;TZID=America/Chicago:20231210T080000
DTEND;TZID=America/Chicago:20231210T170000
DTSTAMP:20260425T091042
CREATED:20231121T203446Z
LAST-MODIFIED:20231121T203446Z
UID:1559-1702195200-1702227600@chesterfieldcommunity.org
SUMMARY:Ugly Sweater Sunday
DESCRIPTION:Save the Date – Sunday\, Dec. 10 – wear your ugly sweater to church\, we will have a photo opportunity available.
URL:https://chesterfieldcommunity.org/event/ugly-sweater-sunday/
END:VEVENT
BEGIN:VEVENT
DTSTART;TZID=America/Chicago:20231210T080000
DTEND;TZID=America/Chicago:20231210T170000
DTSTAMP:20260425T091042
CREATED:20231121T203200Z
LAST-MODIFIED:20231121T203234Z
UID:1555-1702195200-1702227600@chesterfieldcommunity.org
SUMMARY:Angel Tree Gift Opportunity
DESCRIPTION:Support children of parents who are incarcerated in Missouri prisons and who are involved in the Mission Gate ministry through Bible study and discipleship. Stop by the tree in the foyer and select a gift tag\, sign your name on the clipboard\, purchase age appropriate gifts (spend around $25)\, wrap and return the gift with the tag by Sunday\, Dec. 10. If you would like to donate cash and have someone shop and wrap for you\, please contact Paula Bechthold at 314-808-5533.  
URL:https://chesterfieldcommunity.org/event/angel-tree-gift-opportunity/
END:VEVENT
BEGIN:VEVENT
DTSTART;TZID=America/Chicago:20231209T103000
DTEND;TZID=America/Chicago:20231209T120000
DTSTAMP:20260425T091042
CREATED:20231121T203329Z
LAST-MODIFIED:20231121T203329Z
UID:1557-1702117800-1702123200@chesterfieldcommunity.org
SUMMARY:Women's Christmas Brunch
DESCRIPTION:Jesus – The Reason for the Season! Join us for brunch! 10:30 am – noon on Saturday\, Dec. 9 at CCC in the Genesis Room. Bring a new tea/kitchen towel\, wrapped or bagged\, for a gift exchange. Cost of the event is $10. Pay online\, or drop it in the offering – just mark it for the Ladies Christmas Event. Sign up at The HUB today! 
URL:https://chesterfieldcommunity.org/event/womens-christmas-brunch/
END:VEVENT
BEGIN:VEVENT
DTSTART;TZID=America/Chicago:20231202T100000
DTEND;TZID=America/Chicago:20231202T150000
DTSTAMP:20260425T091042
CREATED:20231002T152737Z
LAST-MODIFIED:20231121T203100Z
UID:1512-1701511200-1701529200@chesterfieldcommunity.org
SUMMARY:Christmas Boutique Saturday\, Dec. 2 
DESCRIPTION:Looking for a unique\, one-of-a kind gift? Looking to support small businesses? Looking to invest in a local ministry? Come shop the Annual Christmas Boutique on Saturday\,  \nDec. 2\, from 10 am – 3 pm. All purchases will benefit the Kids Christmas Workshop at LifePoint Church in Florissant ~ James & Denise Miller’s church. Everyone is welcome and this event is open to the public. 
URL:https://chesterfieldcommunity.org/event/christmas-boutique-vendors-wanted-saturday-dec-2/
END:VEVENT
BEGIN:VEVENT
DTSTART;TZID=America/Chicago:20231119T163000
DTEND;TZID=America/Chicago:20231119T180000
DTSTAMP:20260425T091042
CREATED:20231026T202307Z
LAST-MODIFIED:20231026T202307Z
UID:1542-1700411400-1700416800@chesterfieldcommunity.org
SUMMARY:Retirement Celebration for Randy Shuler
DESCRIPTION:You’re invited to a retirement celebration honoring Pastor Randy and Caryn Shuler on Sunday\, Nov. 19 at 4:30 pm. More details coming soon.
URL:https://chesterfieldcommunity.org/event/retirement-celebration-for-randy-shuler/
END:VEVENT
BEGIN:VEVENT
DTSTART;TZID=America/Chicago:20231112T080000
DTEND;TZID=America/Chicago:20231112T170000
DTSTAMP:20260425T091042
CREATED:20231026T202217Z
LAST-MODIFIED:20231026T202217Z
UID:1540-1699776000-1699808400@chesterfieldcommunity.org
SUMMARY:Operation Christmas Child (OCC)
DESCRIPTION:OCC is a ministry of Samaritan Purse that delivers the gospel message to children all over the world through shoeboxes filled with gifts for Christmas! There are THREE WAYS you can get involved: 1) Donate GIFTS to be packed in shoeboxes at The HUB\, 2) Pack your own shoeboxes online or in-person\, or 3) Donate money for shipping ($10 per box). The drop-off deadline is Sunday\, Nov. 12\, and you can find information regarding how to pack a shoebox at The HUB. Contact Colin at colin@chesterfieldcommunity.org with any questions.
URL:https://chesterfieldcommunity.org/event/operation-christmas-child-occ/
END:VEVENT
BEGIN:VEVENT
DTSTART;TZID=America/Chicago:20231104T080000
DTEND;TZID=America/Chicago:20231104T100000
DTSTAMP:20260425T091042
CREATED:20230912T164211Z
LAST-MODIFIED:20231026T202126Z
UID:1483-1699084800-1699092000@chesterfieldcommunity.org
SUMMARY:Men's Breakfast & Workday
DESCRIPTION:CALLING ALL MEN: Join us for breakfast on Nov. 4 at 8 am in the Fellowship Hall! We’re also trying to put together a WORK DAY that morning to accomplish some projects around the church.
URL:https://chesterfieldcommunity.org/event/mens-breakfast/
END:VEVENT
BEGIN:VEVENT
DTSTART;TZID=America/Chicago:20231022T123000
DTEND;TZID=America/Chicago:20231022T170000
DTSTAMP:20260425T091042
CREATED:20230921T183550Z
LAST-MODIFIED:20230921T183550Z
UID:1499-1697977800-1697994000@chesterfieldcommunity.org
SUMMARY:Church Picnic at Central Park in Chesterfield
DESCRIPTION:Join us for a fall picnic at Chesterfield Central Park – located at 16365 Lydia Hill Dr. Chesterfield\, 63017. Sign up at The HUB to help by bringing food. Sign ups start Sunday\, October 1.
URL:https://chesterfieldcommunity.org/event/church-picnic-at-central-park-in-chesterfield/
END:VEVENT
BEGIN:VEVENT
DTSTART;TZID=America/Chicago:20231014T080000
DTEND;TZID=America/Chicago:20231014T170000
DTSTAMP:20260425T091042
CREATED:20230921T183922Z
LAST-MODIFIED:20230921T183922Z
UID:1502-1697270400-1697302800@chesterfieldcommunity.org
SUMMARY:CCC Women's Outreach
DESCRIPTION:We are collecting canned goods for Operation Storehouse food pantry that serves the local community. Please place your donations in the tub at The HUB before October 14. Also CCC has a team of 16 volunteers for Feed My Starving Children on Saturday\, Oct. 14 at Gateway Christian Church from 9:30-11:45 am. This shift is filled however\, there are other times and days available that week. If you are interested in participating please go to https://gccstl.org/fmsc
URL:https://chesterfieldcommunity.org/event/ccc-womens-outreach/
END:VEVENT
BEGIN:VEVENT
DTSTART;TZID=America/Chicago:20231007T103000
DTEND;TZID=America/Chicago:20231007T113000
DTSTAMP:20260425T091042
CREATED:20230921T163331Z
LAST-MODIFIED:20230921T163331Z
UID:1497-1696674600-1696678200@chesterfieldcommunity.org
SUMMARY:Kidz Ministry Meet & Greet
DESCRIPTION:For all families with children 5 years old and under please join us on Saturday\, October 7 from 10:30 -11:30 am in the Fellowship Hall to meet some of our teachers and families. Enjoy a time of snacks\, crafts and fellowship as we build stronger relationships together. Please RSVP with Jannah or the CCC office. We hope to see you then!
URL:https://chesterfieldcommunity.org/event/kidz-ministry-meet-greet/
END:VEVENT
BEGIN:VEVENT
DTSTART;TZID=America/Chicago:20231007T070000
DTEND;TZID=America/Chicago:20231007T170000
DTSTAMP:20260425T091042
CREATED:20230921T163131Z
LAST-MODIFIED:20230921T163131Z
UID:1495-1696662000-1696698000@chesterfieldcommunity.org
SUMMARY:Golf Outing
DESCRIPTION:7 am at Bear Creek Golf Course in Wentzville. $50 per person\, shotgun start. Contact David Haynes for more information. Lunch afterwards at Sugarfire Barbecue in Wentzville. Contact Tom Mitchell if you will be joining us for lunch. CCC Office – 314-469-3255.
URL:https://chesterfieldcommunity.org/event/golf-outing/
END:VEVENT
BEGIN:VEVENT
DTSTART;TZID=America/Chicago:20230926T190000
DTEND;TZID=America/Chicago:20230926T203000
DTSTAMP:20260425T091042
CREATED:20230912T164050Z
LAST-MODIFIED:20230912T164050Z
UID:1481-1695754800-1695760200@chesterfieldcommunity.org
SUMMARY:Ladies Getting to Know You
DESCRIPTION:Ladies\, please join us Tuesday evening\, Sep. 26th at 7-8:30 pm in the Genesis Room\, for our Women’s Ministry kick-off event for a coffee\, tea\, and dessert fellowship! RSVP by 9/24 at The HUB or call the church office 314-469-3255.
URL:https://chesterfieldcommunity.org/event/ladies-getting-to-know-you/
END:VEVENT
BEGIN:VEVENT
DTSTART;TZID=America/Chicago:20230902T120000
DTEND;TZID=America/Chicago:20230902T160000
DTSTAMP:20260425T091042
CREATED:20230816T153213Z
LAST-MODIFIED:20230816T153213Z
UID:1400-1693656000-1693670400@chesterfieldcommunity.org
SUMMARY:Ladies Pool Party Picnic at Kippi's
DESCRIPTION:Hold on\, ladies…we aren’t finished with summer yet!  We will be having a good ol’ pool party with fellowship and fun.  Hope you can join us! \nKippi VanHoogstrate has graciously invited all to swim and have BBQ (Kurt’s famous smoked pulled pork) on Saturday\, September 2nd from 12-4 pm.  When arriving\, use the gate to the left of the house.  Kippi does have some towels and rafts/flotation devices\, but you are welcome to bring your own as well. \nBring a side to share (tea/sodas\, buns\, and paper products provided). Include what you are bringing in the comments\, if known. \nSee you there!
URL:https://chesterfieldcommunity.org/event/ladies-pool-party-picnic-at-kippis/
END:VEVENT
BEGIN:VEVENT
DTSTART;TZID=America/Chicago:20230810T190000
DTEND;TZID=America/Chicago:20230810T210000
DTSTAMP:20260425T091042
CREATED:20230724T171745Z
LAST-MODIFIED:20230724T171745Z
UID:1378-1691694000-1691701200@chesterfieldcommunity.org
SUMMARY:Fitz's Ice Cream Float Fellowship at Connie's
DESCRIPTION:CCC Women’s Ministry is hosting a relaxed fellowship event at Connie Hertzler’s home. For full details visit the sign up genius link\, or sign up at The HUB on Sunday.
URL:https://chesterfieldcommunity.org/event/fitzs-ice-cream-float-fellowship-at-connies/
END:VEVENT
BEGIN:VEVENT
DTSTART;TZID=America/Chicago:20230809T180000
DTEND;TZID=America/Chicago:20230809T200000
DTSTAMP:20260425T091042
CREATED:20230724T171000Z
LAST-MODIFIED:20230724T171000Z
UID:1376-1691604000-1691611200@chesterfieldcommunity.org
SUMMARY:Volunteer Training
DESCRIPTION:CCC Kidz Ministry is having a volunteer training on August 9 to kick off the new year. If you are a current volunteer or are praying about volunteering\, please attend this training to get more information. It will be from 6-8 pm in the fellowship hall. Snacks will be provided. Please let either Jannah jannah@chesterfieldcommunity.org or the office office@chesterfieldcommunity.org know you will be attending so enough snacks are available. Thank you!
URL:https://chesterfieldcommunity.org/event/volunteer-training/
LOCATION:Chesterfield Community Church\, 14647 Ladue Rd\, Chesterfield\, 63017
END:VEVENT
BEGIN:VEVENT
DTSTART;TZID=America/Chicago:20230725T180000
DTEND;TZID=America/Chicago:20230725T180000
DTSTAMP:20260425T091042
CREATED:20230724T165951Z
LAST-MODIFIED:20230724T165951Z
UID:1372-1690308000-1690308000@chesterfieldcommunity.org
SUMMARY:Popsicles in the Park
DESCRIPTION:You are invited to join us for popsicles in the park! We will be giving out popsicles and goodie bags to kids at Faust Park starting at 6 pm. Bring your friends and neighbors to Faust and help shine the light of Jesus to them. This is part of the youth mission trip.
URL:https://chesterfieldcommunity.org/event/popsicles-in-the-park/
ATTACH;FMTTYPE=image/png:https://chesterfieldcommunity.org/wp-content/uploads/2023/07/Popsicles-in-the-Park.png
END:VEVENT
BEGIN:VEVENT
DTSTART;TZID=America/Chicago:20230709T080000
DTEND;TZID=America/Chicago:20230709T170000
DTSTAMP:20260425T091042
CREATED:20230620T165457Z
LAST-MODIFIED:20230620T165457Z
UID:1330-1688889600-1688922000@chesterfieldcommunity.org
SUMMARY:Nerf & Nachos
DESCRIPTION:C3 Youth Event
URL:https://chesterfieldcommunity.org/event/nerf-nachos/
END:VEVENT
BEGIN:VEVENT
DTSTART;VALUE=DATE:20230704
DTEND;VALUE=DATE:20230705
DTSTAMP:20260425T091042
CREATED:20230620T162800Z
LAST-MODIFIED:20230620T162800Z
UID:1326-1688428800-1688515199@chesterfieldcommunity.org
SUMMARY:Independence Day - Office Closed
DESCRIPTION:The church office will be closed on Tuesday\, July 4 in observance of Independence Day.
URL:https://chesterfieldcommunity.org/event/independence-day-office-closed/
END:VEVENT
BEGIN:VEVENT
DTSTART;TZID=America/Chicago:20230626T060000
DTEND;TZID=America/Chicago:20230630T170000
DTSTAMP:20260425T091042
CREATED:20230620T165310Z
LAST-MODIFIED:20230620T165310Z
UID:1328-1687759200-1688144400@chesterfieldcommunity.org
SUMMARY:Camp Siloam
DESCRIPTION:The youth will be traveling to Camp Siloam for a week.
URL:https://chesterfieldcommunity.org/event/camp-siloam/
END:VEVENT
BEGIN:VEVENT
DTSTART;TZID=UTC:20230619T181500
DTEND;TZID=UTC:20230623T203000
DTSTAMP:20260425T091042
CREATED:20230523T205418Z
LAST-MODIFIED:20230530T183016Z
UID:1098-1687198500-1687552200@chesterfieldcommunity.org
SUMMARY:Stellar VBS
DESCRIPTION:Stellar VBS
URL:https://chesterfieldcommunity.org/event/stellar-vbs/
LOCATION:Chesterfield Community Church\, 14647 Ladue Rd\, Chesterfield\, 63017
ATTACH;FMTTYPE=image/png:https://chesterfieldcommunity.org/wp-content/uploads/2023/05/Stellar-VBS-1.png
END:VEVENT
BEGIN:VEVENT
DTSTART;TZID=UTC:20230604T170000
DTEND;TZID=UTC:20230604T180000
DTSTAMP:20260425T091042
CREATED:20230523T203254Z
LAST-MODIFIED:20230523T205615Z
UID:1082-1685898000-1685901600@chesterfieldcommunity.org
SUMMARY:MIT
DESCRIPTION:Come join us for “Members in Touch” where we gather together for a unified hour in prayer. \n\nEvent in Sanctuary
URL:https://chesterfieldcommunity.org/event/mit/
LOCATION:Chesterfield Community Church\, 14647 Ladue Rd\, Chesterfield\, 63017
ATTACH;FMTTYPE=image/png:https://chesterfieldcommunity.org/wp-content/uploads/2023/05/Members-In-Touch.png
END:VEVENT
END:VCALENDAR