BEGIN:VCALENDAR
VERSION:2.0
PRODID:-//Chesterfield Community Church - ECPv6.15.20//NONSGML v1.0//EN
CALSCALE:GREGORIAN
METHOD:PUBLISH
X-WR-CALNAME:Chesterfield Community Church
X-ORIGINAL-URL:https://chesterfieldcommunity.org
X-WR-CALDESC:Events for Chesterfield Community Church
REFRESH-INTERVAL;VALUE=DURATION:PT1H
X-Robots-Tag:noindex
X-PUBLISHED-TTL:PT1H
BEGIN:VTIMEZONE
TZID:America/Chicago
BEGIN:DAYLIGHT
TZOFFSETFROM:-0600
TZOFFSETTO:-0500
TZNAME:CDT
DTSTART:20220313T080000
END:DAYLIGHT
BEGIN:STANDARD
TZOFFSETFROM:-0500
TZOFFSETTO:-0600
TZNAME:CST
DTSTART:20221106T070000
END:STANDARD
BEGIN:DAYLIGHT
TZOFFSETFROM:-0600
TZOFFSETTO:-0500
TZNAME:CDT
DTSTART:20230312T080000
END:DAYLIGHT
BEGIN:STANDARD
TZOFFSETFROM:-0500
TZOFFSETTO:-0600
TZNAME:CST
DTSTART:20231105T070000
END:STANDARD
BEGIN:DAYLIGHT
TZOFFSETFROM:-0600
TZOFFSETTO:-0500
TZNAME:CDT
DTSTART:20240310T080000
END:DAYLIGHT
BEGIN:STANDARD
TZOFFSETFROM:-0500
TZOFFSETTO:-0600
TZNAME:CST
DTSTART:20241103T070000
END:STANDARD
END:VTIMEZONE
BEGIN:VTIMEZONE
TZID:UTC
BEGIN:STANDARD
TZOFFSETFROM:+0000
TZOFFSETTO:+0000
TZNAME:UTC
DTSTART:20220101T000000
END:STANDARD
END:VTIMEZONE
BEGIN:VEVENT
DTSTART;TZID=America/Chicago:20230809T180000
DTEND;TZID=America/Chicago:20230809T200000
DTSTAMP:20260425T065619
CREATED:20230724T171000Z
LAST-MODIFIED:20230724T171000Z
UID:1376-1691604000-1691611200@chesterfieldcommunity.org
SUMMARY:Volunteer Training
DESCRIPTION:CCC Kidz Ministry is having a volunteer training on August 9 to kick off the new year. If you are a current volunteer or are praying about volunteering\, please attend this training to get more information. It will be from 6-8 pm in the fellowship hall. Snacks will be provided. Please let either Jannah jannah@chesterfieldcommunity.org or the office office@chesterfieldcommunity.org know you will be attending so enough snacks are available. Thank you!
URL:https://chesterfieldcommunity.org/event/volunteer-training/
LOCATION:Chesterfield Community Church\, 14647 Ladue Rd\, Chesterfield\, 63017
END:VEVENT
BEGIN:VEVENT
DTSTART;TZID=America/Chicago:20230725T180000
DTEND;TZID=America/Chicago:20230725T180000
DTSTAMP:20260425T065619
CREATED:20230724T165951Z
LAST-MODIFIED:20230724T165951Z
UID:1372-1690308000-1690308000@chesterfieldcommunity.org
SUMMARY:Popsicles in the Park
DESCRIPTION:You are invited to join us for popsicles in the park! We will be giving out popsicles and goodie bags to kids at Faust Park starting at 6 pm. Bring your friends and neighbors to Faust and help shine the light of Jesus to them. This is part of the youth mission trip.
URL:https://chesterfieldcommunity.org/event/popsicles-in-the-park/
ATTACH;FMTTYPE=image/png:https://chesterfieldcommunity.org/wp-content/uploads/2023/07/Popsicles-in-the-Park.png
END:VEVENT
BEGIN:VEVENT
DTSTART;TZID=America/Chicago:20230709T080000
DTEND;TZID=America/Chicago:20230709T170000
DTSTAMP:20260425T065619
CREATED:20230620T165457Z
LAST-MODIFIED:20230620T165457Z
UID:1330-1688889600-1688922000@chesterfieldcommunity.org
SUMMARY:Nerf & Nachos
DESCRIPTION:C3 Youth Event
URL:https://chesterfieldcommunity.org/event/nerf-nachos/
END:VEVENT
BEGIN:VEVENT
DTSTART;VALUE=DATE:20230704
DTEND;VALUE=DATE:20230705
DTSTAMP:20260425T065619
CREATED:20230620T162800Z
LAST-MODIFIED:20230620T162800Z
UID:1326-1688428800-1688515199@chesterfieldcommunity.org
SUMMARY:Independence Day - Office Closed
DESCRIPTION:The church office will be closed on Tuesday\, July 4 in observance of Independence Day.
URL:https://chesterfieldcommunity.org/event/independence-day-office-closed/
END:VEVENT
BEGIN:VEVENT
DTSTART;TZID=America/Chicago:20230626T060000
DTEND;TZID=America/Chicago:20230630T170000
DTSTAMP:20260425T065619
CREATED:20230620T165310Z
LAST-MODIFIED:20230620T165310Z
UID:1328-1687759200-1688144400@chesterfieldcommunity.org
SUMMARY:Camp Siloam
DESCRIPTION:The youth will be traveling to Camp Siloam for a week.
URL:https://chesterfieldcommunity.org/event/camp-siloam/
END:VEVENT
BEGIN:VEVENT
DTSTART;TZID=UTC:20230619T181500
DTEND;TZID=UTC:20230623T203000
DTSTAMP:20260425T065619
CREATED:20230523T205418Z
LAST-MODIFIED:20230530T183016Z
UID:1098-1687198500-1687552200@chesterfieldcommunity.org
SUMMARY:Stellar VBS
DESCRIPTION:Stellar VBS
URL:https://chesterfieldcommunity.org/event/stellar-vbs/
LOCATION:Chesterfield Community Church\, 14647 Ladue Rd\, Chesterfield\, 63017
ATTACH;FMTTYPE=image/png:https://chesterfieldcommunity.org/wp-content/uploads/2023/05/Stellar-VBS-1.png
END:VEVENT
BEGIN:VEVENT
DTSTART;TZID=UTC:20230604T170000
DTEND;TZID=UTC:20230604T180000
DTSTAMP:20260425T065619
CREATED:20230523T203254Z
LAST-MODIFIED:20230523T205615Z
UID:1082-1685898000-1685901600@chesterfieldcommunity.org
SUMMARY:MIT
DESCRIPTION:Come join us for “Members in Touch” where we gather together for a unified hour in prayer. \n\nEvent in Sanctuary
URL:https://chesterfieldcommunity.org/event/mit/
LOCATION:Chesterfield Community Church\, 14647 Ladue Rd\, Chesterfield\, 63017
ATTACH;FMTTYPE=image/png:https://chesterfieldcommunity.org/wp-content/uploads/2023/05/Members-In-Touch.png
END:VEVENT
END:VCALENDAR