BEGIN:VCALENDAR
VERSION:2.0
PRODID:-//Chesterfield Community Church - ECPv6.15.20//NONSGML v1.0//EN
CALSCALE:GREGORIAN
METHOD:PUBLISH
X-WR-CALNAME:Chesterfield Community Church
X-ORIGINAL-URL:https://chesterfieldcommunity.org
X-WR-CALDESC:Events for Chesterfield Community Church
REFRESH-INTERVAL;VALUE=DURATION:PT1H
X-Robots-Tag:noindex
X-PUBLISHED-TTL:PT1H
BEGIN:VTIMEZONE
TZID:America/Chicago
BEGIN:DAYLIGHT
TZOFFSETFROM:-0600
TZOFFSETTO:-0500
TZNAME:CDT
DTSTART:20230312T080000
END:DAYLIGHT
BEGIN:STANDARD
TZOFFSETFROM:-0500
TZOFFSETTO:-0600
TZNAME:CST
DTSTART:20231105T070000
END:STANDARD
BEGIN:DAYLIGHT
TZOFFSETFROM:-0600
TZOFFSETTO:-0500
TZNAME:CDT
DTSTART:20240310T080000
END:DAYLIGHT
BEGIN:STANDARD
TZOFFSETFROM:-0500
TZOFFSETTO:-0600
TZNAME:CST
DTSTART:20241103T070000
END:STANDARD
BEGIN:DAYLIGHT
TZOFFSETFROM:-0600
TZOFFSETTO:-0500
TZNAME:CDT
DTSTART:20250309T080000
END:DAYLIGHT
BEGIN:STANDARD
TZOFFSETFROM:-0500
TZOFFSETTO:-0600
TZNAME:CST
DTSTART:20251102T070000
END:STANDARD
END:VTIMEZONE
BEGIN:VEVENT
DTSTART;TZID=America/Chicago:20240211T080000
DTEND;TZID=America/Chicago:20240211T170000
DTSTAMP:20260425T114423
CREATED:20240201T192124Z
LAST-MODIFIED:20240201T192124Z
UID:1666-1707638400-1707670800@chesterfieldcommunity.org
SUMMARY:Baby Bottles Due for ThriVe
DESCRIPTION:Please return your filled baby bottles for ThriVe no later than Sunday\, Feb. 11. Thank you for supporting ThriVe Nation Crisis Pregnancy Center.
URL:https://chesterfieldcommunity.org/event/baby-bottles-due-for-thrive/
END:VEVENT
BEGIN:VEVENT
DTSTART;TZID=America/Chicago:20240217T080000
DTEND;TZID=America/Chicago:20240218T170000
DTSTAMP:20260425T114423
CREATED:20240201T192234Z
LAST-MODIFIED:20240201T192234Z
UID:1668-1708156800-1708275600@chesterfieldcommunity.org
SUMMARY:FLAME Weekend
DESCRIPTION:FLAME Marriage Retreat is scheduled for Feb. 17 – 18. \nNo kids classes on Sunday\, Feb. 18 – All ages Family Worship.
URL:https://chesterfieldcommunity.org/event/flame-weekend/
END:VEVENT
BEGIN:VEVENT
DTSTART;TZID=America/Chicago:20240219T080000
DTEND;TZID=America/Chicago:20240219T170000
DTSTAMP:20260425T114423
CREATED:20240201T192306Z
LAST-MODIFIED:20240201T192306Z
UID:1670-1708329600-1708362000@chesterfieldcommunity.org
SUMMARY:Office Closed
DESCRIPTION:The church office will be closed on Monday\, Feb. 19 in observance of President’s day.
URL:https://chesterfieldcommunity.org/event/office-closed/
END:VEVENT
BEGIN:VEVENT
DTSTART;TZID=America/Chicago:20240229T190000
DTEND;TZID=America/Chicago:20240229T210000
DTSTAMP:20260425T114423
CREATED:20240207T151312Z
LAST-MODIFIED:20240207T151312Z
UID:1672-1709233200-1709240400@chesterfieldcommunity.org
SUMMARY:STITCHES & THINGS 🧶🪡🧩🖍️ 
DESCRIPTION: Join the Women’s Ministry on Thur. Feb. 29th from 7-9pm in the Genesis Room for a casual evening to bring your favorite craft\, puzzles\, or games! What kind of stitches? Could be YARN (knitting\, crocheting)\, EMBROIDERY FLOSS (cross-stitch\, embroidery)\, or pot holder LOOPS. Or bring some COLORING books\, pencils\, & markers. Don’t craft? Bring a favorite PUZZLE or GAME. Bring snacks and drinks. No fees\, no reservations needed. Plan on fellowship & laughter & maybe you’ll finally get that craft project done. 
URL:https://chesterfieldcommunity.org/event/stitches-things-%f0%9f%a7%b6%f0%9f%aa%a1%f0%9f%a7%a9%f0%9f%96%8d%ef%b8%8f/
END:VEVENT
END:VCALENDAR