BEGIN:VCALENDAR
VERSION:2.0
PRODID:-//Chesterfield Community Church - ECPv6.15.20//NONSGML v1.0//EN
CALSCALE:GREGORIAN
METHOD:PUBLISH
X-WR-CALNAME:Chesterfield Community Church
X-ORIGINAL-URL:https://chesterfieldcommunity.org
X-WR-CALDESC:Events for Chesterfield Community Church
REFRESH-INTERVAL;VALUE=DURATION:PT1H
X-Robots-Tag:noindex
X-PUBLISHED-TTL:PT1H
BEGIN:VTIMEZONE
TZID:America/Chicago
BEGIN:DAYLIGHT
TZOFFSETFROM:-0600
TZOFFSETTO:-0500
TZNAME:CDT
DTSTART:20230312T080000
END:DAYLIGHT
BEGIN:STANDARD
TZOFFSETFROM:-0500
TZOFFSETTO:-0600
TZNAME:CST
DTSTART:20231105T070000
END:STANDARD
BEGIN:DAYLIGHT
TZOFFSETFROM:-0600
TZOFFSETTO:-0500
TZNAME:CDT
DTSTART:20240310T080000
END:DAYLIGHT
BEGIN:STANDARD
TZOFFSETFROM:-0500
TZOFFSETTO:-0600
TZNAME:CST
DTSTART:20241103T070000
END:STANDARD
BEGIN:DAYLIGHT
TZOFFSETFROM:-0600
TZOFFSETTO:-0500
TZNAME:CDT
DTSTART:20250309T080000
END:DAYLIGHT
BEGIN:STANDARD
TZOFFSETFROM:-0500
TZOFFSETTO:-0600
TZNAME:CST
DTSTART:20251102T070000
END:STANDARD
END:VTIMEZONE
BEGIN:VEVENT
DTSTART;TZID=America/Chicago:20240608T090000
DTEND;TZID=America/Chicago:20240608T130000
DTSTAMP:20260425T053316
CREATED:20240418T150843Z
LAST-MODIFIED:20240418T150843Z
UID:1781-1717837200-1717851600@chesterfieldcommunity.org
SUMMARY:Moms In Prayer Impact Missouri - Victorious In Christ Conference
DESCRIPTION:All ladies at CCC are invited to learn more about praying for the children in their lives.  This is a great resource to pray for our kiddos\, at any age\, but especially to start when they are young so Moms know you aren’t alone.  God has called you to be a Mom and will equip you. Early registration $25 by 5/12/24. After that date registration of $30 is open until 6/2/24.  More information available at the HUB.
URL:https://chesterfieldcommunity.org/event/moms-in-prayer-impact-missouri-victorious-in-christ-conference/
END:VEVENT
BEGIN:VEVENT
DTSTART;TZID=America/Chicago:20240609T103000
DTEND;TZID=America/Chicago:20240609T113000
DTSTAMP:20260425T053316
CREATED:20240430T202705Z
LAST-MODIFIED:20240430T202705Z
UID:1817-1717929000-1717932600@chesterfieldcommunity.org
SUMMARY:Baby Dedication Sunday
DESCRIPTION:Calling all parents of babies or younger kids who have not had the opportunity to be dedicated! We plan to do a baby dedication on Sunday\, June 9 during the 10:30 am service. Usually\, this time is meant to specifically dedicate babies\, however we have been made aware that\, due to Covid\, some of our younger kids may not have had the opportunity. We want to make it clear that baby dedication is NOT baby baptism. Baby dedication is a time where parents bring their child/children before the church and ask for the churches support for help in raising their children in God’s ways. If you have any questions or would like to participate\, please speak with either Jannah or Pastor Colin.
URL:https://chesterfieldcommunity.org/event/baby-dedication-sunday/
END:VEVENT
BEGIN:VEVENT
DTSTART;TZID=America/Chicago:20240617T181500
DTEND;TZID=America/Chicago:20240621T203000
DTSTAMP:20260425T053316
CREATED:20240529T210205Z
LAST-MODIFIED:20240529T210205Z
UID:1864-1718648100-1719001800@chesterfieldcommunity.org
SUMMARY:Vacation Bible School - GLOW
DESCRIPTION:You’re invited to join our Vacation Bible School! \nGLOW – God’s Love Our Work \nFor children ages 4 years old through completed fifth grade. \nRegister here. \nAge appropriate Bible lessons\, games and activities looking at the life of Peter.
URL:https://chesterfieldcommunity.org/event/vacation-bible-school-glow/
END:VEVENT
END:VCALENDAR