BEGIN:VCALENDAR
VERSION:2.0
PRODID:-//Chesterfield Community Church - ECPv6.15.20//NONSGML v1.0//EN
CALSCALE:GREGORIAN
METHOD:PUBLISH
X-ORIGINAL-URL:https://chesterfieldcommunity.org
X-WR-CALDESC:Events for Chesterfield Community Church
REFRESH-INTERVAL;VALUE=DURATION:PT1H
X-Robots-Tag:noindex
X-PUBLISHED-TTL:PT1H
BEGIN:VTIMEZONE
TZID:America/Chicago
BEGIN:DAYLIGHT
TZOFFSETFROM:-0600
TZOFFSETTO:-0500
TZNAME:CDT
DTSTART:20250309T080000
END:DAYLIGHT
BEGIN:STANDARD
TZOFFSETFROM:-0500
TZOFFSETTO:-0600
TZNAME:CST
DTSTART:20251102T070000
END:STANDARD
BEGIN:DAYLIGHT
TZOFFSETFROM:-0600
TZOFFSETTO:-0500
TZNAME:CDT
DTSTART:20260308T080000
END:DAYLIGHT
BEGIN:STANDARD
TZOFFSETFROM:-0500
TZOFFSETTO:-0600
TZNAME:CST
DTSTART:20261101T070000
END:STANDARD
BEGIN:DAYLIGHT
TZOFFSETFROM:-0600
TZOFFSETTO:-0500
TZNAME:CDT
DTSTART:20270314T080000
END:DAYLIGHT
BEGIN:STANDARD
TZOFFSETFROM:-0500
TZOFFSETTO:-0600
TZNAME:CST
DTSTART:20271107T070000
END:STANDARD
END:VTIMEZONE
BEGIN:VEVENT
DTSTART;TZID=America/Chicago:20260101T080000
DTEND;TZID=America/Chicago:20260101T170000
DTSTAMP:20260424T000824
CREATED:20251229T153410Z
LAST-MODIFIED:20251229T153410Z
UID:2395-1767254400-1767286800@chesterfieldcommunity.org
SUMMARY:Office Closed
DESCRIPTION:The CCC office will be closed on Thursday\, January 1 in observance of New Year’s Day.
URL:https://chesterfieldcommunity.org/event/office-closed-7/
END:VEVENT
BEGIN:VEVENT
DTSTART;TZID=America/Chicago:20260111T090000
DTEND;TZID=America/Chicago:20260111T100000
DTSTAMP:20260424T000824
CREATED:20250728T202915Z
LAST-MODIFIED:20251231T154819Z
UID:2260-1768122000-1768125600@chesterfieldcommunity.org
SUMMARY:Discover Community
DESCRIPTION:Life is better when it’s shared. At Discover Community\, you’ll find out how to get connected to a small group where you can grow in faith\, ask questions\, and build meaningful relationships. No pressure—just a simple invitation to find your people and take a step toward deeper community. \nClick here to register!
URL:https://chesterfieldcommunity.org/event/discover-community/
END:VEVENT
BEGIN:VEVENT
DTSTART;TZID=America/Chicago:20260118T090000
DTEND;TZID=America/Chicago:20260125T103000
DTSTAMP:20260424T000824
CREATED:20241216T213352Z
LAST-MODIFIED:20251231T155602Z
UID:2052-1768726800-1769337000@chesterfieldcommunity.org
SUMMARY:Discovery Class Jan 18 & 25 at 9 am
DESCRIPTION:Are you interested in learning more about CCC? Ready to become a CCC member? Come to our two-part Discovery Class\, Jan 18 & 25 at 9 am. Coffee and a light breakfast will be provided. Children’s and youth classes are available at that time as well. Please email the church office to RSVP at office@chesterfieldcommunity.org to help us prepare. 
URL:https://chesterfieldcommunity.org/event/discovery-class-jan-12-19-at-9-am/
END:VEVENT
BEGIN:VEVENT
DTSTART;TZID=America/Chicago:20260119T080000
DTEND;TZID=America/Chicago:20260119T170000
DTSTAMP:20260424T000824
CREATED:20251229T153637Z
LAST-MODIFIED:20251229T170756Z
UID:2397-1768809600-1768842000@chesterfieldcommunity.org
SUMMARY:Office Closed
DESCRIPTION:The CCC office will be closed on Monday\, January 19 in observance of Martin Luther King Jr Day.
URL:https://chesterfieldcommunity.org/event/office-closed-8/
END:VEVENT
BEGIN:VEVENT
DTSTART;TZID=America/Chicago:20260125T090000
DTEND;TZID=America/Chicago:20260125T103000
DTSTAMP:20260424T000824
CREATED:20260122T214502Z
LAST-MODIFIED:20260124T223647Z
UID:2447-1769331600-1769337000@chesterfieldcommunity.org
SUMMARY:No In Person Services Sunday\, Jan 25
DESCRIPTION:CCC Families – Due to inclement weather\, we’re cancelling our in-person gathering tomorrow January 25. Pastor Colin will share a short devotional tomorrow at 10:30 am – on our FB page. Please enjoy time with Jesus\, your family\, and some rest. \nwww.facebook.com/chesterfieldcommunitychurch \nAlso note- The CCC business meeting will be rescheduled to next Sunday\, February 1 at 5 pm.
URL:https://chesterfieldcommunity.org/event/no-kids-or-youth-at-9-am/
END:VEVENT
BEGIN:VEVENT
DTSTART;TZID=America/Chicago:20260131T080000
DTEND;TZID=America/Chicago:20260131T170000
DTSTAMP:20260424T000824
CREATED:20251229T202108Z
LAST-MODIFIED:20251229T214116Z
UID:2414-1769846400-1769878800@chesterfieldcommunity.org
SUMMARY:Circle of Concern Food Drive
DESCRIPTION:The CCC Women’s Ministry is holding a FOOD DRIVE to collect food items to be delivered to the Circle of Concern\, a faith-based food pantry located in St. Louis County. Check out the list of items needed on the table near the Genesis Room and drop off food into the bin there. If you would like to assist in delivering the food\, please contact Lynn Utley\, cccgals@gmail.com. 
URL:https://chesterfieldcommunity.org/event/circle-of-concern-food-drive/
END:VEVENT
END:VCALENDAR